BEGIN:VCALENDAR
VERSION:2.0
PRODID:-//Свен Донер - ECPv5.8.0//NONSGML v1.0//EN
CALSCALE:GREGORIAN
METHOD:PUBLISH
X-WR-CALNAME:Свен Донер
X-ORIGINAL-URL:http://svendoehner.com/ru
X-WR-CALDESC:Events for Свен Донер
BEGIN:VTIMEZONE
TZID:UTC
BEGIN:STANDARD
TZOFFSETFROM:+0000
TZOFFSETTO:+0000
TZNAME:UTC
DTSTART:20200101T000000
END:STANDARD
END:VTIMEZONE
BEGIN:VEVENT
DTSTART;TZID=UTC:20200531T090000
DTEND;TZID=UTC:20200531T160000
DTSTAMP:20260425T131316
CREATED:20200420T205623Z
LAST-MODIFIED:20200420T205623Z
UID:799-1590915600-1590940800@svendoehner.com
SUMMARY:"Trabajo Alquímico con las IMÁGENES de nuestros SUEÑOS (y vidas).”//EN LÍNEA
DESCRIPTION:
URL:http://svendoehner.com/ru/event/trabajo-alquimico-con-las-imagenes-de-nuestros-suen%cc%83os-y-vidas-en-linea-2/
LOCATION:Curso En Línea
ORGANIZER;CN="Sven%20Doehner":MAILTO:sven@psicologiaprofunda.com
END:VEVENT
END:VCALENDAR